BEGIN:VCALENDAR
VERSION:2.0
PRODID:-//Cure EB - ECPv6.15.14//NONSGML v1.0//EN
CALSCALE:GREGORIAN
METHOD:PUBLISH
X-WR-CALNAME:Cure EB
X-ORIGINAL-URL:https://cure-eb.org
X-WR-CALDESC:Events for Cure EB
REFRESH-INTERVAL;VALUE=DURATION:PT1H
X-Robots-Tag:noindex
X-PUBLISHED-TTL:PT1H
BEGIN:VTIMEZONE
TZID:Europe/London
BEGIN:DAYLIGHT
TZOFFSETFROM:+0000
TZOFFSETTO:+0100
TZNAME:BST
DTSTART:20240331T010000
END:DAYLIGHT
BEGIN:STANDARD
TZOFFSETFROM:+0100
TZOFFSETTO:+0000
TZNAME:GMT
DTSTART:20241027T010000
END:STANDARD
BEGIN:DAYLIGHT
TZOFFSETFROM:+0000
TZOFFSETTO:+0100
TZNAME:BST
DTSTART:20250330T010000
END:DAYLIGHT
BEGIN:STANDARD
TZOFFSETFROM:+0100
TZOFFSETTO:+0000
TZNAME:GMT
DTSTART:20251026T010000
END:STANDARD
BEGIN:DAYLIGHT
TZOFFSETFROM:+0000
TZOFFSETTO:+0100
TZNAME:BST
DTSTART:20260329T010000
END:DAYLIGHT
BEGIN:STANDARD
TZOFFSETFROM:+0100
TZOFFSETTO:+0000
TZNAME:GMT
DTSTART:20261025T010000
END:STANDARD
END:VTIMEZONE
BEGIN:VEVENT
DTSTART;TZID=Europe/London:20251211T140000
DTEND;TZID=Europe/London:20251211T150000
DTSTAMP:20260421T081157
CREATED:20251003T081730Z
LAST-MODIFIED:20251119T174337Z
UID:21016-1765461600-1765465200@cure-eb.org
SUMMARY:Research the Cure webinar - December 2025
DESCRIPTION:[vc_row css_animation=”” row_type=”row” use_row_as_full_screen_section=”no” type=”full_width” angled_section=”no” text_align=”left” background_image_as_pattern=”without_pattern”][vc_column][vc_column_text css=”.vc_custom_1763574179683{background-color: #F2F2F2 !important;}”]Change of date \nDue to unforeseen circumstances\, our webinar with Prof Jakub Tolar is now on Thursday 11th December at 2pm. \nIf you had already registered\, your place has been transferred. We apologise for any inconvenience this may cause. \nRegistration remains open to all.[/vc_column_text][/vc_column][/vc_row][vc_row css_animation=”” row_type=”row” use_row_as_full_screen_section=”no” type=”full_width” angled_section=”no” text_align=”left” background_image_as_pattern=”without_pattern”][vc_column][vc_column_text css=””] \nImmune & cell therapy for RDEB SCC\nProf Jakub Tolar (University of Minnesota) is joining us to talk about his research into immune and cell therapy for recessive dystrophic EB (RDEB) associated squamous cell carcinoma (SCC). You can read more about this research project here.[/vc_column_text][/vc_column][/vc_row][vc_row css_animation=”” row_type=”row” use_row_as_full_screen_section=”no” type=”full_width” angled_section=”no” text_align=”left” background_image_as_pattern=”without_pattern”][vc_column]Register your free place[/vc_column][/vc_row][vc_row css_animation=”” row_type=”row” use_row_as_full_screen_section=”no” type=”full_width” angled_section=”no” text_align=”left” background_image_as_pattern=”without_pattern”][vc_column][vc_column_text css=””]When?  Thursday 11th December\, 2pm GMT \nWhere? Online – register now \nWho? This free webinar is open to all – EB patients and families\, researchers\, clinicians\, and anyone with an interest in EB. \n  \nPlease note that this a live event only – a recording won’t be shared after the event. \nHosted by Sharmila Collins\, founder of Cure EB\, this is a free event open to all\, but you must register. \nThere will be an opportunity to ask questions\, but you can also submit questions in advance here.[/vc_column_text][/vc_column][/vc_row][vc_row css_animation=”” row_type=”row” use_row_as_full_screen_section=”no” type=”full_width” angled_section=”no” text_align=”left” background_image_as_pattern=”without_pattern”][vc_column][vc_text_separator title=”Meet the speaker” border=”no”][/vc_column][/vc_row][vc_row css_animation=”” row_type=”row” use_row_as_full_screen_section=”no” type=”full_width” angled_section=”no” text_align=”left” background_image_as_pattern=”without_pattern”][vc_column][vc_column_text css=””]Prof Jakub Tolar is the dean of the University of Minnesota Medical School and a Distinguished McKnight University Professor in the Department of Pediatrics\, Blood and Marrow Transplant & Cellular Therapy. He is also the vice president for Clinical Affairs at the University of Minnesota\, board chair for University of Minnesota Physicians and co-leader of M Health Fairview\, the joint clinical enterprise among the University of Minnesota Medical School\, University of Minnesota Physicians and Fairview Health Services. An internationally recognized physician and researcher\, Dr. Tolar is known for his care of patients with recessive dystrophic epidermolysis bullosa. His research is focused on developing cellular therapies for rare genetic disorders.[/vc_column_text][/vc_column][/vc_row]
URL:https://cure-eb.org/event/researchthecure-dec25/
LOCATION:Online
CATEGORIES:Research Events
ATTACH;FMTTYPE=image/png:https://cure-eb.org/wp-content/uploads/2025/10/251120-Jakub-tolar-webinar.png
END:VEVENT
END:VCALENDAR