BEGIN:VCALENDAR
VERSION:2.0
PRODID:-//Cure EB - ECPv6.15.14//NONSGML v1.0//EN
CALSCALE:GREGORIAN
METHOD:PUBLISH
X-ORIGINAL-URL:https://cure-eb.org
X-WR-CALDESC:Events for Cure EB
REFRESH-INTERVAL;VALUE=DURATION:PT1H
X-Robots-Tag:noindex
X-PUBLISHED-TTL:PT1H
BEGIN:VTIMEZONE
TZID:Europe/London
BEGIN:DAYLIGHT
TZOFFSETFROM:+0000
TZOFFSETTO:+0100
TZNAME:BST
DTSTART:20230326T010000
END:DAYLIGHT
BEGIN:STANDARD
TZOFFSETFROM:+0100
TZOFFSETTO:+0000
TZNAME:GMT
DTSTART:20231029T010000
END:STANDARD
BEGIN:DAYLIGHT
TZOFFSETFROM:+0000
TZOFFSETTO:+0100
TZNAME:BST
DTSTART:20240331T010000
END:DAYLIGHT
BEGIN:STANDARD
TZOFFSETFROM:+0100
TZOFFSETTO:+0000
TZNAME:GMT
DTSTART:20241027T010000
END:STANDARD
BEGIN:DAYLIGHT
TZOFFSETFROM:+0000
TZOFFSETTO:+0100
TZNAME:BST
DTSTART:20250330T010000
END:DAYLIGHT
BEGIN:STANDARD
TZOFFSETFROM:+0100
TZOFFSETTO:+0000
TZNAME:GMT
DTSTART:20251026T010000
END:STANDARD
END:VTIMEZONE
BEGIN:VEVENT
DTSTART;TZID=Europe/London:20240620T130000
DTEND;TZID=Europe/London:20240620T140000
DTSTAMP:20260425T115742
CREATED:20240530T110427Z
LAST-MODIFIED:20240530T110427Z
UID:19604-1718888400-1718892000@cure-eb.org
SUMMARY:Research the Cure Webinar - June 2024
DESCRIPTION:[vc_row css_animation=”” row_type=”row” use_row_as_full_screen_section=”no” type=”full_width” angled_section=”no” text_align=”left” background_image_as_pattern=”without_pattern”][vc_column][vc_column_text css=””]Dr Ciro Chiappini joins us for our next Research the Cure webinar to talk about using nanoneedles to deliver treatments in EB. \nCiro was one of the lead researchers on the Cure EB funded Nanocol project\, which looked at improving RDEB wound healing through the use of bandages with nanoneedles to insert a functional version of the Collagen VII gene directly inside the skin cells.[/vc_column_text][/vc_column][/vc_row][vc_row css_animation=”” row_type=”row” use_row_as_full_screen_section=”no” type=”full_width” angled_section=”no” text_align=”left” background_image_as_pattern=”without_pattern”][vc_column]Register now[/vc_column][/vc_row][vc_row css_animation=”” row_type=”row” use_row_as_full_screen_section=”no” type=”full_width” angled_section=”no” text_align=”left” background_image_as_pattern=”without_pattern”][vc_column][vc_column_text css=””]Hosted by Sharmila Collins\, founder of Cure EB\, this is a free event open to all\, but you must register. \nThere will be an opportunity to ask questions during the webinar\, but please also submit questions in advance here.[/vc_column_text][/vc_column][/vc_row][vc_row css_animation=”” row_type=”row” use_row_as_full_screen_section=”no” type=”full_width” angled_section=”no” text_align=”left” background_image_as_pattern=”without_pattern”][vc_column]Research the Cure webinar registration[/vc_column][/vc_row][vc_row css_animation=”” row_type=”row” use_row_as_full_screen_section=”no” type=”full_width” angled_section=”no” text_align=”left” background_image_as_pattern=”without_pattern”][vc_column][vc_text_separator title=”About our speaker” border=”no”][/vc_column][/vc_row][vc_row css_animation=”” row_type=”row” use_row_as_full_screen_section=”no” type=”full_width” angled_section=”no” text_align=”left” background_image_as_pattern=”without_pattern”][vc_column][vc_column_text css=””]Ciro is a Senior Lecturer in Nanomaterials and Biointerfaces at King’s College London and one of the lead researchers on the Nanocol project. His research blends nanotechnology\, bioengineering and cell biology to develop new solutions for advanced therapies.[/vc_column_text][/vc_column][/vc_row]
URL:https://cure-eb.org/event/research-the-cure-jun24/
LOCATION:Online
CATEGORIES:Research Events
ATTACH;FMTTYPE=image/png:https://cure-eb.org/wp-content/uploads/2024/05/Research-Webinar-June-2024-website-feature-image.png
END:VEVENT
END:VCALENDAR